BEGIN:VCALENDAR
VERSION:2.0
PRODID:-//CVJM Welzheim e.V. - ECPv6.15.20//NONSGML v1.0//EN
CALSCALE:GREGORIAN
METHOD:PUBLISH
X-WR-CALNAME:CVJM Welzheim e.V.
X-ORIGINAL-URL:https://cvjm-welzheim.de
X-WR-CALDESC:Veranstaltungen für CVJM Welzheim e.V.
REFRESH-INTERVAL;VALUE=DURATION:PT1H
X-Robots-Tag:noindex
X-PUBLISHED-TTL:PT1H
BEGIN:VTIMEZONE
TZID:Europe/Berlin
BEGIN:DAYLIGHT
TZOFFSETFROM:+0100
TZOFFSETTO:+0200
TZNAME:CEST
DTSTART:20250330T010000
END:DAYLIGHT
BEGIN:STANDARD
TZOFFSETFROM:+0200
TZOFFSETTO:+0100
TZNAME:CET
DTSTART:20251026T010000
END:STANDARD
BEGIN:DAYLIGHT
TZOFFSETFROM:+0100
TZOFFSETTO:+0200
TZNAME:CEST
DTSTART:20260329T010000
END:DAYLIGHT
BEGIN:STANDARD
TZOFFSETFROM:+0200
TZOFFSETTO:+0100
TZNAME:CET
DTSTART:20261025T010000
END:STANDARD
BEGIN:DAYLIGHT
TZOFFSETFROM:+0100
TZOFFSETTO:+0200
TZNAME:CEST
DTSTART:20270328T010000
END:DAYLIGHT
BEGIN:STANDARD
TZOFFSETFROM:+0200
TZOFFSETTO:+0100
TZNAME:CET
DTSTART:20271031T010000
END:STANDARD
END:VTIMEZONE
BEGIN:VEVENT
DTSTART;VALUE=DATE:20260911
DTEND;VALUE=DATE:20260914
DTSTAMP:20260421T041627
CREATED:20251228T080014Z
LAST-MODIFIED:20251228T080014Z
UID:203013-1789084800-1789343999@cvjm-welzheim.de
SUMMARY:Bergwochenende
DESCRIPTION:
URL:https://cvjm-welzheim.de/event/bergwochenende-3/
CATEGORIES:CVJM Termine
END:VEVENT
BEGIN:VEVENT
DTSTART;TZID=Europe/Berlin:20260921T193000
DTEND;TZID=Europe/Berlin:20260921T223000
DTSTAMP:20260421T041627
CREATED:20251228T080051Z
LAST-MODIFIED:20251228T080051Z
UID:203015-1790019000-1790029800@cvjm-welzheim.de
SUMMARY:Ausschusssitzung
DESCRIPTION:
URL:https://cvjm-welzheim.de/event/ausschusssitzung-20/
LOCATION:DBH
CATEGORIES:CVJM Termine
END:VEVENT
END:VCALENDAR