BEGIN:VCALENDAR
VERSION:2.0
PRODID:-//CVJM Welzheim e.V. - ECPv6.15.20//NONSGML v1.0//EN
CALSCALE:GREGORIAN
METHOD:PUBLISH
X-WR-CALNAME:CVJM Welzheim e.V.
X-ORIGINAL-URL:https://cvjm-welzheim.de
X-WR-CALDESC:Veranstaltungen für CVJM Welzheim e.V.
REFRESH-INTERVAL;VALUE=DURATION:PT1H
X-Robots-Tag:noindex
X-PUBLISHED-TTL:PT1H
BEGIN:VTIMEZONE
TZID:Europe/Berlin
BEGIN:DAYLIGHT
TZOFFSETFROM:+0100
TZOFFSETTO:+0200
TZNAME:CEST
DTSTART:20250330T010000
END:DAYLIGHT
BEGIN:STANDARD
TZOFFSETFROM:+0200
TZOFFSETTO:+0100
TZNAME:CET
DTSTART:20251026T010000
END:STANDARD
BEGIN:DAYLIGHT
TZOFFSETFROM:+0100
TZOFFSETTO:+0200
TZNAME:CEST
DTSTART:20260329T010000
END:DAYLIGHT
BEGIN:STANDARD
TZOFFSETFROM:+0200
TZOFFSETTO:+0100
TZNAME:CET
DTSTART:20261025T010000
END:STANDARD
BEGIN:DAYLIGHT
TZOFFSETFROM:+0100
TZOFFSETTO:+0200
TZNAME:CEST
DTSTART:20270328T010000
END:DAYLIGHT
BEGIN:STANDARD
TZOFFSETFROM:+0200
TZOFFSETTO:+0100
TZNAME:CET
DTSTART:20271031T010000
END:STANDARD
END:VTIMEZONE
BEGIN:VEVENT
DTSTART;VALUE=DATE:20260606
DTEND;VALUE=DATE:20260607
DTSTAMP:20260420T235021
CREATED:20251228T075102Z
LAST-MODIFIED:20251228T075102Z
UID:203000-1780704000-1780790399@cvjm-welzheim.de
SUMMARY:Ausschuss Klausurtag
DESCRIPTION:
URL:https://cvjm-welzheim.de/event/ausschuss-klausurtag-5/
LOCATION:DBH
CATEGORIES:CVJM Termine
END:VEVENT
BEGIN:VEVENT
DTSTART;TZID=Europe/Berlin:20260621T080000
DTEND;TZID=Europe/Berlin:20260621T170000
DTSTAMP:20260420T235021
CREATED:20251228T075333Z
LAST-MODIFIED:20251228T075333Z
UID:203002-1782028800-1782061200@cvjm-welzheim.de
SUMMARY:17. Welzheimer-Wald-Cup
DESCRIPTION:Indiacaturnier mit Gottesdienst in der JKH.
URL:https://cvjm-welzheim.de/event/17-welzheimer-wald-cup/
CATEGORIES:CVJM Termine
END:VEVENT
BEGIN:VEVENT
DTSTART;VALUE=DATE:20260625
DTEND;VALUE=DATE:20260626
DTSTAMP:20260420T235021
CREATED:20260417T051521Z
LAST-MODIFIED:20260417T051521Z
UID:203179-1782345600-1782431999@cvjm-welzheim.de
SUMMARY:Reservierung Schule (C. Fritz)
DESCRIPTION:
URL:https://cvjm-welzheim.de/event/reservierung-schule-c-fritz/
CATEGORIES:Plätzle Reservierung
END:VEVENT
BEGIN:VEVENT
DTSTART;VALUE=DATE:20260626
DTEND;VALUE=DATE:20260627
DTSTAMP:20260420T235021
CREATED:20260116T083727Z
LAST-MODIFIED:20260327T090358Z
UID:203072-1782432000-1782518399@cvjm-welzheim.de
SUMMARY:Reservierung Welki
DESCRIPTION:Alle Schrannen\nGrill
URL:https://cvjm-welzheim.de/event/reservierung-welki-2/
CATEGORIES:Plätzle Reservierung
END:VEVENT
END:VCALENDAR