BEGIN:VCALENDAR
VERSION:2.0
PRODID:-//CVJM Welzheim e.V. - ECPv6.15.20//NONSGML v1.0//EN
CALSCALE:GREGORIAN
METHOD:PUBLISH
X-WR-CALNAME:CVJM Welzheim e.V.
X-ORIGINAL-URL:https://cvjm-welzheim.de
X-WR-CALDESC:Veranstaltungen für CVJM Welzheim e.V.
REFRESH-INTERVAL;VALUE=DURATION:PT1H
X-Robots-Tag:noindex
X-PUBLISHED-TTL:PT1H
BEGIN:VTIMEZONE
TZID:Europe/Berlin
BEGIN:DAYLIGHT
TZOFFSETFROM:+0100
TZOFFSETTO:+0200
TZNAME:CEST
DTSTART:20250330T010000
END:DAYLIGHT
BEGIN:STANDARD
TZOFFSETFROM:+0200
TZOFFSETTO:+0100
TZNAME:CET
DTSTART:20251026T010000
END:STANDARD
BEGIN:DAYLIGHT
TZOFFSETFROM:+0100
TZOFFSETTO:+0200
TZNAME:CEST
DTSTART:20260329T010000
END:DAYLIGHT
BEGIN:STANDARD
TZOFFSETFROM:+0200
TZOFFSETTO:+0100
TZNAME:CET
DTSTART:20261025T010000
END:STANDARD
BEGIN:DAYLIGHT
TZOFFSETFROM:+0100
TZOFFSETTO:+0200
TZNAME:CEST
DTSTART:20270328T010000
END:DAYLIGHT
BEGIN:STANDARD
TZOFFSETFROM:+0200
TZOFFSETTO:+0100
TZNAME:CET
DTSTART:20271031T010000
END:STANDARD
END:VTIMEZONE
BEGIN:VEVENT
DTSTART;TZID=Europe/Berlin:20260301T140000
DTEND;TZID=Europe/Berlin:20260301T200000
DTSTAMP:20260420T221238
CREATED:20260111T210750Z
LAST-MODIFIED:20260111T210750Z
UID:203042-1772373600-1772395200@cvjm-welzheim.de
SUMMARY:7. CVJM Welzheim Dartturnier
DESCRIPTION:Eine Anmeldung ist notwendig. Bitte unter manuel.schneider@cvjm-welzheim.de anmelden bis 28.02.2026.
URL:https://cvjm-welzheim.de/event/7-cvjm-welzheim-dartturnier/
LOCATION:DBH
CATEGORIES:CVJM Termine
END:VEVENT
BEGIN:VEVENT
DTSTART;VALUE=DATE:20260314
DTEND;VALUE=DATE:20260316
DTSTAMP:20260420T221238
CREATED:20251228T073821Z
LAST-MODIFIED:20251228T073821Z
UID:202984-1773446400-1773619199@cvjm-welzheim.de
SUMMARY:Bezirksposaunentag
DESCRIPTION:Konzert ist am 14.03. 2026 um 19 Uhr in der Sankt-Gallus-Kirche und Festgottesdienst mit anschließenden Platzkonzert am 15.03.2025 zum Bezirksposaunentag 2026 mit Bläserinnen und Bläsern aus den Posaunenchören des Kirchenbezirks Schorndorf.
URL:https://cvjm-welzheim.de/event/bezirksposaunentag-3/
CATEGORIES:CVJM Termine
END:VEVENT
BEGIN:VEVENT
DTSTART;TZID=Europe/Berlin:20260318T190000
DTEND;TZID=Europe/Berlin:20260318T210000
DTSTAMP:20260420T221238
CREATED:20260312T204414Z
LAST-MODIFIED:20260312T204751Z
UID:203145-1773860400-1773867600@cvjm-welzheim.de
SUMMARY:Ein Weg zu Ostern - Inneren Bildern Raum geben
DESCRIPTION:Biblische Impulse – Stille – Farben – einfach sein. \n18. März 2026\, 19.00 – 21.00 Uhr\, Dietrich-Bonhoeffer-Haus Welzheim \nDazu wollen wir dich am 18.03.2026 von 19.00 bis 21.00 Uhr ins Dietrich-Bonhoeffer-Haus einladen. \nAn diesem Abend kannst du die gehörten Impulse auf dich wirken lassen oder zu Papier bringen und dich gedanklich auf den Weg zu Ostern machen. \nBitte melde dich bis zum 16.03.2026 an: \nE-Mail: Albrecht.Zoller@elkw.deWhatsApp: 015731937610 \nAnsprechpartner:Albrecht Zoller\, Heike Schneider\, Isabell Maier
URL:https://cvjm-welzheim.de/event/ein-weg-zu-ostern-inneren-bildern-raum-geben/
LOCATION:DBH
CATEGORIES:CVJM Termine
END:VEVENT
BEGIN:VEVENT
DTSTART;TZID=Europe/Berlin:20260318T193000
DTEND;TZID=Europe/Berlin:20260318T223000
DTSTAMP:20260420T221238
CREATED:20251228T073919Z
LAST-MODIFIED:20251228T073919Z
UID:202986-1773862200-1773873000@cvjm-welzheim.de
SUMMARY:Ausschusssitzung
DESCRIPTION:
URL:https://cvjm-welzheim.de/event/ausschusssitzung-17/
LOCATION:DBH
CATEGORIES:CVJM Termine
END:VEVENT
BEGIN:VEVENT
DTSTART;VALUE=DATE:20260321
DTEND;VALUE=DATE:20260322
DTSTAMP:20260420T221238
CREATED:20251228T074008Z
LAST-MODIFIED:20251228T074818Z
UID:202988-1774051200-1774137599@cvjm-welzheim.de
SUMMARY:Plätzlesputzede
DESCRIPTION:
URL:https://cvjm-welzheim.de/event/plaetzlesputzede-2/
LOCATION:CVJM Plätzle
CATEGORIES:CVJM Termine,Plätzle Reservierung
END:VEVENT
BEGIN:VEVENT
DTSTART;TZID=Europe/Berlin:20260327T180000
DTEND;TZID=Europe/Berlin:20260327T220000
DTSTAMP:20260420T221238
CREATED:20260129T071202Z
LAST-MODIFIED:20260129T071202Z
UID:203101-1774634400-1774648800@cvjm-welzheim.de
SUMMARY:Spieletreff
DESCRIPTION:Herzliche Einladung zum Spieletreff!\nSpiele gibt es vor Ort oder du bringst dein Lieblingsspiel mit!\nMit Pizza Pause\nGetränke vor Ort \nDart und Kicker im Keller \nDie Veranstaltung ist eine Kooperation der Kirchengemeinde Welzheimer Wald und des CVJM Welzheim e.V.
URL:https://cvjm-welzheim.de/event/spieletreff-8/
LOCATION:DBH
CATEGORIES:CVJM Termine
END:VEVENT
END:VCALENDAR