BEGIN:VCALENDAR
VERSION:2.0
PRODID:-//CVJM Welzheim e.V. - ECPv6.15.20//NONSGML v1.0//EN
CALSCALE:GREGORIAN
METHOD:PUBLISH
X-WR-CALNAME:CVJM Welzheim e.V.
X-ORIGINAL-URL:https://cvjm-welzheim.de
X-WR-CALDESC:Veranstaltungen für CVJM Welzheim e.V.
REFRESH-INTERVAL;VALUE=DURATION:PT1H
X-Robots-Tag:noindex
X-PUBLISHED-TTL:PT1H
BEGIN:VTIMEZONE
TZID:Europe/Berlin
BEGIN:DAYLIGHT
TZOFFSETFROM:+0100
TZOFFSETTO:+0200
TZNAME:CEST
DTSTART:20250330T010000
END:DAYLIGHT
BEGIN:STANDARD
TZOFFSETFROM:+0200
TZOFFSETTO:+0100
TZNAME:CET
DTSTART:20251026T010000
END:STANDARD
BEGIN:DAYLIGHT
TZOFFSETFROM:+0100
TZOFFSETTO:+0200
TZNAME:CEST
DTSTART:20260329T010000
END:DAYLIGHT
BEGIN:STANDARD
TZOFFSETFROM:+0200
TZOFFSETTO:+0100
TZNAME:CET
DTSTART:20261025T010000
END:STANDARD
BEGIN:DAYLIGHT
TZOFFSETFROM:+0100
TZOFFSETTO:+0200
TZNAME:CEST
DTSTART:20270328T010000
END:DAYLIGHT
BEGIN:STANDARD
TZOFFSETFROM:+0200
TZOFFSETTO:+0100
TZNAME:CET
DTSTART:20271031T010000
END:STANDARD
BEGIN:DAYLIGHT
TZOFFSETFROM:+0100
TZOFFSETTO:+0200
TZNAME:CEST
DTSTART:20280326T010000
END:DAYLIGHT
BEGIN:STANDARD
TZOFFSETFROM:+0200
TZOFFSETTO:+0100
TZNAME:CET
DTSTART:20281029T010000
END:STANDARD
END:VTIMEZONE
BEGIN:VEVENT
DTSTART;VALUE=DATE:20260501
DTEND;VALUE=DATE:20260502
DTSTAMP:20260421T054732
CREATED:20251228T074649Z
LAST-MODIFIED:20251228T074649Z
UID:202994-1777593600-1777679999@cvjm-welzheim.de
SUMMARY:Maiwanderung
DESCRIPTION:
URL:https://cvjm-welzheim.de/event/maiwanderung-12/
LOCATION:CVJM Plätzle
CATEGORIES:CVJM Termine,Plätzle Reservierung
END:VEVENT
BEGIN:VEVENT
DTSTART;TZID=Europe/Berlin:20260501T200000
DTEND;TZID=Europe/Berlin:20260503T200000
DTSTAMP:20260421T054732
CREATED:20251223T095103Z
LAST-MODIFIED:20251223T095221Z
UID:202974-1777665600-1777838400@cvjm-welzheim.de
SUMMARY:Reservierung A. Fischer
DESCRIPTION:
URL:https://cvjm-welzheim.de/event/reservierung-a-fischer-3/
CATEGORIES:Plätzle Reservierung
END:VEVENT
BEGIN:VEVENT
DTSTART;VALUE=DATE:20260606
DTEND;VALUE=DATE:20260607
DTSTAMP:20260421T054732
CREATED:20251228T075102Z
LAST-MODIFIED:20251228T075102Z
UID:203000-1780704000-1780790399@cvjm-welzheim.de
SUMMARY:Ausschuss Klausurtag
DESCRIPTION:
URL:https://cvjm-welzheim.de/event/ausschuss-klausurtag-5/
LOCATION:DBH
CATEGORIES:CVJM Termine
END:VEVENT
BEGIN:VEVENT
DTSTART;TZID=Europe/Berlin:20260621T080000
DTEND;TZID=Europe/Berlin:20260621T170000
DTSTAMP:20260421T054732
CREATED:20251228T075333Z
LAST-MODIFIED:20251228T075333Z
UID:203002-1782028800-1782061200@cvjm-welzheim.de
SUMMARY:17. Welzheimer-Wald-Cup
DESCRIPTION:Indiacaturnier mit Gottesdienst in der JKH.
URL:https://cvjm-welzheim.de/event/17-welzheimer-wald-cup/
CATEGORIES:CVJM Termine
END:VEVENT
BEGIN:VEVENT
DTSTART;VALUE=DATE:20260625
DTEND;VALUE=DATE:20260626
DTSTAMP:20260421T054732
CREATED:20260417T051521Z
LAST-MODIFIED:20260417T051521Z
UID:203179-1782345600-1782431999@cvjm-welzheim.de
SUMMARY:Reservierung Schule (C. Fritz)
DESCRIPTION:
URL:https://cvjm-welzheim.de/event/reservierung-schule-c-fritz/
CATEGORIES:Plätzle Reservierung
END:VEVENT
BEGIN:VEVENT
DTSTART;VALUE=DATE:20260626
DTEND;VALUE=DATE:20260627
DTSTAMP:20260421T054732
CREATED:20260116T083727Z
LAST-MODIFIED:20260327T090358Z
UID:203072-1782432000-1782518399@cvjm-welzheim.de
SUMMARY:Reservierung Welki
DESCRIPTION:Alle Schrannen\nGrill
URL:https://cvjm-welzheim.de/event/reservierung-welki-2/
CATEGORIES:Plätzle Reservierung
END:VEVENT
BEGIN:VEVENT
DTSTART;VALUE=DATE:20260704
DTEND;VALUE=DATE:20260705
DTSTAMP:20260421T054732
CREATED:20251223T095007Z
LAST-MODIFIED:20251223T095230Z
UID:202972-1783123200-1783209599@cvjm-welzheim.de
SUMMARY:Sommerfest Posaunenchor
DESCRIPTION:Alle Schrannen\nAlle Grills
URL:https://cvjm-welzheim.de/event/sommerfest-posaunenchor/
CATEGORIES:Plätzle Reservierung
END:VEVENT
BEGIN:VEVENT
DTSTART;TZID=Europe/Berlin:20260704T100000
DTEND;TZID=Europe/Berlin:20260704T150000
DTSTAMP:20260421T054732
CREATED:20260417T051420Z
LAST-MODIFIED:20260417T051420Z
UID:203177-1783159200-1783177200@cvjm-welzheim.de
SUMMARY:Reservierung Kindergarten Arche Noah
DESCRIPTION:Schrannen
URL:https://cvjm-welzheim.de/event/reservierung-kindergarten-arche-noah/
CATEGORIES:Schrannen/Grill Reservierung
END:VEVENT
BEGIN:VEVENT
DTSTART;VALUE=DATE:20260711
DTEND;VALUE=DATE:20260712
DTSTAMP:20260421T054732
CREATED:20260222T154335Z
LAST-MODIFIED:20260222T154335Z
UID:203108-1783728000-1783814399@cvjm-welzheim.de
SUMMARY:Kulissenbautag Zeltlager
DESCRIPTION:
URL:https://cvjm-welzheim.de/event/kulissenbautag-zeltlager/
CATEGORIES:Plätzle Reservierung
END:VEVENT
BEGIN:VEVENT
DTSTART;VALUE=DATE:20260712
DTEND;VALUE=DATE:20260713
DTSTAMP:20260421T054732
CREATED:20251228T075522Z
LAST-MODIFIED:20251228T075522Z
UID:203005-1783814400-1783900799@cvjm-welzheim.de
SUMMARY:Aussendungsgottesdienst der Freizeitmitarbeitenden
DESCRIPTION:Gottesdienst zur Aussendung der Freizeitmitarbeitenden mit anschließendem grillen auf dem CVJM Plätzle.
URL:https://cvjm-welzheim.de/event/aussendungsgottesdienst-der-freizeitmitarbeitenden/
LOCATION:St.-Gallus-Kirche Welzheim
CATEGORIES:CVJM Termine,Plätzle Reservierung,Schrannen/Grill Reservierung
END:VEVENT
BEGIN:VEVENT
DTSTART;TZID=Europe/Berlin:20260717T193000
DTEND;TZID=Europe/Berlin:20260717T223000
DTSTAMP:20260421T054732
CREATED:20251228T075714Z
LAST-MODIFIED:20251228T075714Z
UID:203007-1784316600-1784327400@cvjm-welzheim.de
SUMMARY:Ausschusssitzung
DESCRIPTION:
URL:https://cvjm-welzheim.de/event/ausschusssitzung-19/
LOCATION:DBH
CATEGORIES:CVJM Termine
END:VEVENT
BEGIN:VEVENT
DTSTART;VALUE=DATE:20260722
DTEND;VALUE=DATE:20260723
DTSTAMP:20260421T054732
CREATED:20260310T170831Z
LAST-MODIFIED:20260310T170831Z
UID:203142-1784678400-1784764799@cvjm-welzheim.de
SUMMARY:Reservierung Klasse 4C / BFS
DESCRIPTION:
URL:https://cvjm-welzheim.de/event/reservierung-klasse-4c-bfs/
CATEGORIES:Plätzle Reservierung
END:VEVENT
BEGIN:VEVENT
DTSTART;VALUE=DATE:20260731
DTEND;VALUE=DATE:20260809
DTSTAMP:20260421T054732
CREATED:20251228T075834Z
LAST-MODIFIED:20251228T075834Z
UID:203009-1785456000-1786233599@cvjm-welzheim.de
SUMMARY:Jungenzeltlager
DESCRIPTION:
URL:https://cvjm-welzheim.de/event/jungenzeltlager-2/
CATEGORIES:CVJM Termine,Plätzle Reservierung,Schrannen/Grill Reservierung
END:VEVENT
BEGIN:VEVENT
DTSTART;VALUE=DATE:20260808
DTEND;VALUE=DATE:20260816
DTSTAMP:20260421T054732
CREATED:20251228T075911Z
LAST-MODIFIED:20251228T075911Z
UID:203011-1786147200-1786838399@cvjm-welzheim.de
SUMMARY:Mädchenzeltlager
DESCRIPTION:
URL:https://cvjm-welzheim.de/event/maedchenzeltlager-3/
CATEGORIES:CVJM Termine,Plätzle Reservierung,Schrannen/Grill Reservierung
END:VEVENT
BEGIN:VEVENT
DTSTART;VALUE=DATE:20260819
DTEND;VALUE=DATE:20260830
DTSTAMP:20260421T054732
CREATED:20251228T091923Z
LAST-MODIFIED:20251228T091923Z
UID:203033-1787097600-1788047999@cvjm-welzheim.de
SUMMARY:Erlebefreizeit
DESCRIPTION:
URL:https://cvjm-welzheim.de/event/erlebefreizeit-6/
CATEGORIES:CVJM Termine,Plätzle Reservierung,Schrannen/Grill Reservierung
END:VEVENT
BEGIN:VEVENT
DTSTART;VALUE=DATE:20260911
DTEND;VALUE=DATE:20260914
DTSTAMP:20260421T054732
CREATED:20251228T080014Z
LAST-MODIFIED:20251228T080014Z
UID:203013-1789084800-1789343999@cvjm-welzheim.de
SUMMARY:Bergwochenende
DESCRIPTION:
URL:https://cvjm-welzheim.de/event/bergwochenende-3/
CATEGORIES:CVJM Termine
END:VEVENT
BEGIN:VEVENT
DTSTART;TZID=Europe/Berlin:20260921T193000
DTEND;TZID=Europe/Berlin:20260921T223000
DTSTAMP:20260421T054732
CREATED:20251228T080051Z
LAST-MODIFIED:20251228T080051Z
UID:203015-1790019000-1790029800@cvjm-welzheim.de
SUMMARY:Ausschusssitzung
DESCRIPTION:
URL:https://cvjm-welzheim.de/event/ausschusssitzung-20/
LOCATION:DBH
CATEGORIES:CVJM Termine
END:VEVENT
BEGIN:VEVENT
DTSTART;TZID=Europe/Berlin:20261020T193000
DTEND;TZID=Europe/Berlin:20261020T223000
DTSTAMP:20260421T054732
CREATED:20251228T080136Z
LAST-MODIFIED:20251228T080237Z
UID:203017-1792524600-1792535400@cvjm-welzheim.de
SUMMARY:Ausschusssitzung
DESCRIPTION:
URL:https://cvjm-welzheim.de/event/ausschusssitzung-21/
LOCATION:DBH
CATEGORIES:CVJM Termine
END:VEVENT
BEGIN:VEVENT
DTSTART;TZID=Europe/Berlin:20261113T183000
DTEND;TZID=Europe/Berlin:20261113T223000
DTSTAMP:20260421T054732
CREATED:20251228T080326Z
LAST-MODIFIED:20260420T182256Z
UID:203019-1794594600-1794609000@cvjm-welzheim.de
SUMMARY:Ausschuss im Austausch
DESCRIPTION:
URL:https://cvjm-welzheim.de/event/ausschuss-im-austausch-3/
LOCATION:DBH
CATEGORIES:CVJM Termine,Schrannen/Grill Reservierung
END:VEVENT
BEGIN:VEVENT
DTSTART;VALUE=DATE:20261114
DTEND;VALUE=DATE:20261115
DTSTAMP:20260421T054732
CREATED:20251228T080407Z
LAST-MODIFIED:20260420T182322Z
UID:203021-1794614400-1794700799@cvjm-welzheim.de
SUMMARY:Ausschuss Klausurtag
DESCRIPTION:
URL:https://cvjm-welzheim.de/event/ausschuss-klausurtag-6/
LOCATION:DBH
CATEGORIES:CVJM Termine
END:VEVENT
BEGIN:VEVENT
DTSTART;VALUE=DATE:20261204
DTEND;VALUE=DATE:20261207
DTSTAMP:20260421T054732
CREATED:20251228T080508Z
LAST-MODIFIED:20251228T080508Z
UID:203023-1796342400-1796601599@cvjm-welzheim.de
SUMMARY:CVJM Wochenende
DESCRIPTION:
URL:https://cvjm-welzheim.de/event/cvjm-wochenende-3/
CATEGORIES:CVJM Termine
END:VEVENT
BEGIN:VEVENT
DTSTART;TZID=Europe/Berlin:20261216T193000
DTEND;TZID=Europe/Berlin:20261216T223000
DTSTAMP:20260421T054732
CREATED:20251228T080736Z
LAST-MODIFIED:20251228T080750Z
UID:203027-1797449400-1797460200@cvjm-welzheim.de
SUMMARY:Ausschusssitzung
DESCRIPTION:
URL:https://cvjm-welzheim.de/event/ausschuss-3/
LOCATION:DBH
CATEGORIES:CVJM Termine
END:VEVENT
BEGIN:VEVENT
DTSTART;TZID=Europe/Berlin:20261219T180000
DTEND;TZID=Europe/Berlin:20261219T233000
DTSTAMP:20260421T054732
CREATED:20251228T080824Z
LAST-MODIFIED:20251228T080824Z
UID:203031-1797703200-1797723000@cvjm-welzheim.de
SUMMARY:Weihnachtsfeier
DESCRIPTION:
URL:https://cvjm-welzheim.de/event/weihnachtsfeier-3/
LOCATION:DBH
CATEGORIES:CVJM Termine
END:VEVENT
BEGIN:VEVENT
DTSTART;VALUE=DATE:20270211
DTEND;VALUE=DATE:20270214
DTSTAMP:20260421T054732
CREATED:20260320T170335Z
LAST-MODIFIED:20260320T170335Z
UID:203148-1802304000-1802563199@cvjm-welzheim.de
SUMMARY:Legobautage
DESCRIPTION:
URL:https://cvjm-welzheim.de/event/legobautage-5/
LOCATION:DBH
CATEGORIES:CVJM Termine
END:VEVENT
BEGIN:VEVENT
DTSTART;VALUE=DATE:20271029
DTEND;VALUE=DATE:20271101
DTSTAMP:20260421T054732
CREATED:20251228T080557Z
LAST-MODIFIED:20251228T080557Z
UID:203025-1824768000-1825027199@cvjm-welzheim.de
SUMMARY:CVJM Wochenende
DESCRIPTION:
URL:https://cvjm-welzheim.de/event/cvjm-wochenende-4/
CATEGORIES:CVJM Termine
END:VEVENT
END:VCALENDAR